BEGIN:VCALENDAR
VERSION:2.0
PRODID:-//JGCT - ECPv6.2.6.1//NONSGML v1.0//EN
CALSCALE:GREGORIAN
METHOD:PUBLISH
X-WR-CALNAME:JGCT
X-ORIGINAL-URL:https://www.jgct.com
X-WR-CALDESC:Events for JGCT
REFRESH-INTERVAL;VALUE=DURATION:PT1H
X-Robots-Tag:noindex
X-PUBLISHED-TTL:PT1H
BEGIN:VTIMEZONE
TZID:America/Toronto
BEGIN:DAYLIGHT
TZOFFSETFROM:-0500
TZOFFSETTO:-0400
TZNAME:EDT
DTSTART:20260308T070000
END:DAYLIGHT
BEGIN:STANDARD
TZOFFSETFROM:-0400
TZOFFSETTO:-0500
TZNAME:EST
DTSTART:20261101T060000
END:STANDARD
END:VTIMEZONE
BEGIN:VEVENT
DTSTART;TZID=America/Toronto:20260421T203000
DTEND;TZID=America/Toronto:20260421T220000
DTSTAMP:20260420T050356
CREATED:20260308T140458Z
LAST-MODIFIED:20260317T213409Z
UID:10003646-1776803400-1776808800@www.jgct.com
SUMMARY:Ladies Bible Study - Living Boldly for Christ
DESCRIPTION:Join us every other Tuesday at 8:30 pm for a 6 part Bible study where we will examine the lives of eight women in the Bible who overcame struggles in their lives to be bold witnesses for Christ.  We will study how their encounter with Jesus Christ change the course of their lives and how truly understanding the love and sacrifice He made for us\, can inspire us to unashamedly live for Him! \n 
URL:https://www.jgct.com/event/ladies-bible-study-living-boldly-for-christ/2026-04-21/
LOCATION:Online via Zoom
CATEGORIES:English Ministry,Ladies Ministry
ATTACH;FMTTYPE=image/jpeg:https://www.jgct.com/wp-content/uploads/2026/03/ben-white-vtCBruWoNqo-unsplash-scaled.jpg
END:VEVENT
END:VCALENDAR